BEGIN:VCALENDAR
VERSION:2.0
PRODID:-//Tukios.com/
BEGIN:VEVENT
UID:0cb05890-5609-481d-8829-a43a864fdc05@www.rekfunerals.com
DTSTAMP:20260421T232818Z
DTSTART:20260423T200000Z
DTEND:20260423T210000Z
SUMMARY:Interment
DESCRIPTION:
URL:https://www.rekfunerals.com/obituaries/purificacion-guerrero
LOCATION: 1300 W Main St  Uvalde TX 78801
GEO:29.2005145;-99.8103245
END:VEVENT
END:VCALENDAR