BEGIN:VCALENDAR
VERSION:2.0
PRODID:-//Tukios.com/
BEGIN:VEVENT
UID:d0c6c6b4-317c-473a-96dd-8a904c2e4127@www.rekfunerals.com
DTSTAMP:20260421T232721Z
DTSTART:20260423T190000Z
DTEND:20260423T200000Z
SUMMARY:Mass
DESCRIPTION:
URL:https://www.rekfunerals.com/obituaries/purificacion-guerrero
LOCATION: 408 Fort Clark Rd  Uvalde TX 78801
GEO:29.2118187;-99.7947288
END:VEVENT
END:VCALENDAR