BEGIN:VCALENDAR
VERSION:2.0
PRODID:-//Tukios.com/
BEGIN:VEVENT
UID:2a4cfbfc-5078-47f4-96d1-625d7823efb0@www.rekfunerals.com
DTSTAMP:20260421T232538Z
DTSTART:20260423T000000Z
DTEND:20260423T010000Z
SUMMARY:Rosary
DESCRIPTION:
URL:https://www.rekfunerals.com/obituaries/purificacion-guerrero
LOCATION: 220 S Getty St  Uvalde TX 78801
GEO:29.207335;-99.7848617
END:VEVENT
END:VCALENDAR