BEGIN:VCALENDAR
VERSION:2.0
PRODID:-//Tukios.com/
BEGIN:VEVENT
UID:80563d72-25c1-4c10-ac8a-94b37c2eefa7@www.rekfunerals.com
DTSTAMP:20260421T233242Z
DTSTART:20260422T190000Z
DTEND:20260423T020000Z
SUMMARY:Visitation
DESCRIPTION:
URL:https://www.rekfunerals.com/obituaries/purificacion-guerrero
LOCATION: 220 S Getty St  Uvalde TX 78801
GEO:29.207335;-99.7848617
END:VEVENT
END:VCALENDAR