BEGIN:VCALENDAR
VERSION:2.0
PRODID:-//Tukios.com/
BEGIN:VEVENT
UID:45324bb8-507d-42e1-b6fb-48bf9220e5f8@www.rekfunerals.com
DTSTAMP:20260424T194809Z
DTSTART:20260427T160000Z
DTEND:20260427T170000Z
SUMMARY:Interment
DESCRIPTION:
URL:https://www.rekfunerals.com/obituaries/joaquin-terrazas
LOCATION:Hillcrest Cemetery 527 North Lovers Lane  Uvalde TX 78801
GEO:29.2040932;-99.8126345
END:VEVENT
END:VCALENDAR