BEGIN:VCALENDAR
VERSION:2.0
PRODID:-//Tukios.com/
BEGIN:VEVENT
UID:96addec0-adb5-44a8-b036-5646fa00ef9c@www.rekfunerals.com
DTSTAMP:20260424T194754Z
DTSTART:20260427T150000Z
DTEND:20260427T160000Z
SUMMARY:Funeral Service
DESCRIPTION:
URL:https://www.rekfunerals.com/obituaries/joaquin-terrazas
LOCATION:Templo Cristiano 231 North Park Street  Uvalde TX 78801
GEO:29.2107864;-99.7914609
END:VEVENT
END:VCALENDAR