BEGIN:VCALENDAR
VERSION:2.0
PRODID:-//Tukios.com/
BEGIN:VEVENT
UID:076058ee-513e-4cd6-8121-20d22b92c309@www.rekfunerals.com
DTSTAMP:20260424T194550Z
DTSTART:20260427T000000Z
DTEND:20260427T010000Z
SUMMARY:Prayer Service
DESCRIPTION:
URL:https://www.rekfunerals.com/obituaries/joaquin-terrazas
LOCATION:Rushing-Estes-Knowles Mortuary 220 S. Getty  Uvalde TX 78801
GEO:29.2072212;-99.7847811
END:VEVENT
END:VCALENDAR