BEGIN:VCALENDAR
VERSION:2.0
PRODID:-//Tukios.com/
BEGIN:VEVENT
UID:9a50d40b-ec45-4683-81b1-d4c9545ffd3f@www.rekfunerals.com
DTSTAMP:20260424T194754Z
DTSTART:20260426T220000Z
DTEND:20260427T020000Z
SUMMARY:Visitation
DESCRIPTION:
URL:https://www.rekfunerals.com/obituaries/joaquin-terrazas
LOCATION: 220 S Getty St  Uvalde TX 78801
GEO:29.207335;-99.7848617
END:VEVENT
END:VCALENDAR