BEGIN:VCALENDAR
VERSION:2.0
PRODID:-//Tukios.com/
BEGIN:VEVENT
UID:2b4e4117-2c9f-4e3e-aedc-bb836d225816@www.rekfunerals.com
DTSTAMP:20260421T022752Z
DTSTART:20260422T190000Z
DTEND:20260422T200000Z
SUMMARY:Mass
DESCRIPTION:
URL:https://www.rekfunerals.com/obituaries/jimmy-munoz
LOCATION: 408 Fort Clark Rd  Uvalde TX 78801
GEO:29.2118187;-99.7947288
END:VEVENT
END:VCALENDAR