BEGIN:VCALENDAR
VERSION:2.0
PRODID:-//Tukios.com/
BEGIN:VEVENT
UID:bc822cfe-3276-41e9-a99f-53cd5f09d5d6@www.rekfunerals.com
DTSTAMP:20260421T022737Z
DTSTART:20260422T000000Z
DTEND:20260422T010000Z
SUMMARY:Rosary
DESCRIPTION:
URL:https://www.rekfunerals.com/obituaries/jimmy-munoz
LOCATION: 220 S Getty St  Uvalde TX 78801
GEO:29.207335;-99.7848617
END:VEVENT
END:VCALENDAR