BEGIN:VCALENDAR
VERSION:2.0
PRODID:-//Tukios.com/
BEGIN:VEVENT
UID:a129794a-b9ed-4de2-b3f0-15ce79687a50@www.rekfunerals.com
DTSTAMP:20260421T022736Z
DTSTART:20260421T160000Z
DTEND:20260422T020000Z
SUMMARY:Visitation
DESCRIPTION:
URL:https://www.rekfunerals.com/obituaries/jimmy-munoz
LOCATION: 220 S Getty St  Uvalde TX 78801
GEO:29.207335;-99.7848617
END:VEVENT
END:VCALENDAR