BEGIN:VCALENDAR
VERSION:2.0
PRODID:-//Tukios.com/
BEGIN:VEVENT
UID:9e5ef2a7-e61b-487b-8be4-b8747bf272b2@www.rekfunerals.com
DTSTAMP:20260425T184231Z
DTSTART:20260429T160000Z
DTEND:20260429T200000Z
SUMMARY:Celebration of Life
DESCRIPTION:
URL:https://www.rekfunerals.com/obituaries/jack-rutledge
LOCATION: 220 N High St  Uvalde TX 78801
GEO:29.211398;-99.7889144
END:VEVENT
END:VCALENDAR