BEGIN:VCALENDAR
VERSION:2.0
PRODID:-//Tukios.com/
BEGIN:VEVENT
UID:e7ea009f-770d-4198-9c1f-43d2b991cb4b@www.rekfunerals.com
DTSTAMP:20260425T184118Z
DTSTART:20260429T143000Z
DTEND:20260429T153000Z
SUMMARY:Graveside Service
DESCRIPTION:
URL:https://www.rekfunerals.com/obituaries/jack-rutledge
LOCATION:  Cemetery Rd  La Pryor TX 78872
GEO:28.9453765;-99.8617945
END:VEVENT
END:VCALENDAR